Package: wavClusteR Version: 2.41.0 Command: rm -rf wavClusteR.buildbin-libdir && mkdir wavClusteR.buildbin-libdir && /Users/biocbuild/BBS/utils/build-universal.sh wavClusteR_2.41.0.tar.gz /Library/Frameworks/R.framework/Resources/bin/R wavClusteR.buildbin-libdir StartedAt: 2025-02-04 22:36:38 -0500 (Tue, 04 Feb 2025) EndedAt: 2025-02-04 22:36:55 -0500 (Tue, 04 Feb 2025) EllapsedTime: 16.4 seconds RetCode: 0 Status: OK PackageFile: wavClusteR_2.41.0.tgz PackageFileSize: 897.5 KiB