Package: wavClusteR Version: 2.41.0 Command: /Library/Frameworks/R.framework/Resources/bin/R CMD check --install=check:wavClusteR.install-out.txt --library=/Library/Frameworks/R.framework/Resources/library --no-vignettes --timings wavClusteR_2.41.0.tar.gz StartedAt: 2025-02-04 21:58:27 -0500 (Tue, 04 Feb 2025) EndedAt: 2025-02-04 22:00:11 -0500 (Tue, 04 Feb 2025) EllapsedTime: 104.2 seconds RetCode: 0 Status: OK CheckDir: wavClusteR.Rcheck Warnings: 0