Package: wavClusteR Version: 2.41.0 Command: /Library/Frameworks/R.framework/Resources/bin/R CMD INSTALL wavClusteR StartedAt: 2025-02-04 15:15:52 -0500 (Tue, 04 Feb 2025) EndedAt: 2025-02-04 15:16:07 -0500 (Tue, 04 Feb 2025) EllapsedTime: 14.8 seconds RetCode: 0 Status: OK