Package: wavClusteR Version: 2.41.0 Command: /Library/Frameworks/R.framework/Resources/bin/R CMD check --install=check:wavClusteR.install-out.txt --library=/Library/Frameworks/R.framework/Resources/library --no-vignettes --timings wavClusteR_2.41.0.tar.gz StartedAt: 2025-02-10 00:22:51 -0500 (Mon, 10 Feb 2025) EndedAt: 2025-02-10 00:28:00 -0500 (Mon, 10 Feb 2025) EllapsedTime: 309.1 seconds RetCode: 0 Status: OK CheckDir: wavClusteR.Rcheck Warnings: 0