Package: wavClusteR Version: 2.41.0 Command: /Library/Frameworks/R.framework/Resources/bin/R CMD INSTALL wavClusteR StartedAt: 2025-02-03 15:30:22 -0500 (Mon, 03 Feb 2025) EndedAt: 2025-02-03 15:31:13 -0500 (Mon, 03 Feb 2025) EllapsedTime: 50.5 seconds RetCode: 0 Status: OK