Package: wavClusteR Version: 2.41.0 Command: /home/biocbuild/bbs-3.21-bioc/R/bin/R CMD build --keep-empty-dirs --no-resave-data wavClusteR StartedAt: 2025-02-04 19:43:10 -0500 (Tue, 04 Feb 2025) EndedAt: 2025-02-04 19:44:12 -0500 (Tue, 04 Feb 2025) EllapsedTime: 62.1 seconds RetCode: 0 Status: OK PackageFile: wavClusteR_2.41.0.tar.gz PackageFileSize: 779.5 KiB