Package: wavClusteR Version: 2.41.0 Command: /home/biocbuild/bbs-3.21-bioc/R/bin/R CMD check --install=check:wavClusteR.install-out.txt --library=/home/biocbuild/bbs-3.21-bioc/R/site-library --timings wavClusteR_2.41.0.tar.gz StartedAt: 2025-02-10 03:45:06 -0500 (Mon, 10 Feb 2025) EndedAt: 2025-02-10 03:50:15 -0500 (Mon, 10 Feb 2025) EllapsedTime: 309.4 seconds RetCode: 0 Status: OK CheckDir: wavClusteR.Rcheck Warnings: 0