Package: wavClusteR Version: 2.41.0 Command: rm -rf wavClusteR.buildbin-libdir && mkdir wavClusteR.buildbin-libdir && E:\biocbuild\bbs-3.21-bioc\R\bin\R.exe CMD INSTALL --build --library=wavClusteR.buildbin-libdir wavClusteR_2.41.0.tar.gz StartedAt: 2025-02-04 09:10:19 -0500 (Tue, 04 Feb 2025) EndedAt: 2025-02-04 09:11:06 -0500 (Tue, 04 Feb 2025) EllapsedTime: 47.6 seconds RetCode: 0 Status: OK PackageFile: wavClusteR_2.41.0.zip PackageFileSize: 580.9 KiB