Package: wavClusteR Version: 2.41.0 Command: chmod a+r wavClusteR -R && E:\biocbuild\bbs-3.21-bioc\R\bin\R.exe CMD build --keep-empty-dirs --no-resave-data wavClusteR StartedAt: 2025-02-03 22:31:06 -0500 (Mon, 03 Feb 2025) EndedAt: 2025-02-03 22:32:29 -0500 (Mon, 03 Feb 2025) EllapsedTime: 82.7 seconds RetCode: 0 Status: OK PackageFile: wavClusteR_2.41.0.tar.gz PackageFileSize: 470.6 KiB