Package: weaver Version: 1.73.0 Command: /home/biocbuild/R/R/bin/R CMD build --keep-empty-dirs --no-resave-data weaver StartedAt: 2025-01-28 03:11:41 -0000 (Tue, 28 Jan 2025) EndedAt: 2025-01-28 03:11:46 -0000 (Tue, 28 Jan 2025) EllapsedTime: 5.0 seconds RetCode: 0 Status: OK PackageFile: weaver_1.73.0.tar.gz PackageFileSize: 226.1 KiB