Package: weaver Version: 1.73.0 Command: /home/biocbuild/R/R/bin/R CMD check --install=check:weaver.install-out.txt --library=/home/biocbuild/R/R/site-library --no-vignettes --timings weaver_1.73.0.tar.gz StartedAt: 2025-01-27 13:55:35 -0000 (Mon, 27 Jan 2025) EndedAt: 2025-01-27 13:55:59 -0000 (Mon, 27 Jan 2025) EllapsedTime: 24.0 seconds RetCode: 0 Status: WARNINGS CheckDir: weaver.Rcheck Warnings: 1