Package: weaver Version: 1.73.0 Command: /home/biocbuild/R/R/bin/R CMD INSTALL weaver StartedAt: 2025-01-29 19:59:58 -0000 (Wed, 29 Jan 2025) EndedAt: 2025-01-29 20:00:00 -0000 (Wed, 29 Jan 2025) EllapsedTime: 1.9 seconds RetCode: 0 Status: OK