Package: weaver Version: 1.73.0 Command: /home/biocbuild/bbs-3.21-bioc/R/bin/R CMD check --install=check:weaver.install-out.txt --library=/home/biocbuild/bbs-3.21-bioc/R/site-library --timings weaver_1.73.0.tar.gz StartedAt: 2025-02-13 03:45:13 -0500 (Thu, 13 Feb 2025) EndedAt: 2025-02-13 03:45:30 -0500 (Thu, 13 Feb 2025) EllapsedTime: 17.0 seconds RetCode: 0 Status: WARNINGS CheckDir: weaver.Rcheck Warnings: 1