Package: webbioc Version: 1.79.0 Command: /Library/Frameworks/R.framework/Resources/bin/R CMD build --keep-empty-dirs --no-resave-data webbioc StartedAt: 2025-02-12 17:55:21 -0500 (Wed, 12 Feb 2025) EndedAt: 2025-02-12 17:55:34 -0500 (Wed, 12 Feb 2025) EllapsedTime: 13.1 seconds RetCode: 0 Status: OK PackageFile: webbioc_1.79.0.tar.gz PackageFileSize: 312.1 KiB