Package: webbioc Version: 1.79.0 Command: /Library/Frameworks/R.framework/Resources/bin/R CMD check --install=check:webbioc.install-out.txt --library=/Library/Frameworks/R.framework/Resources/library --no-vignettes --timings webbioc_1.79.0.tar.gz StartedAt: 2025-02-09 21:56:52 -0500 (Sun, 09 Feb 2025) EndedAt: 2025-02-09 21:57:28 -0500 (Sun, 09 Feb 2025) EllapsedTime: 35.4 seconds RetCode: 0 Status: OK CheckDir: webbioc.Rcheck Warnings: 0