Package: webbioc Version: 1.79.0 Command: /Library/Frameworks/R.framework/Resources/bin/R CMD build --keep-empty-dirs --no-resave-data webbioc StartedAt: 2025-02-09 18:50:40 -0500 (Sun, 09 Feb 2025) EndedAt: 2025-02-09 18:51:12 -0500 (Sun, 09 Feb 2025) EllapsedTime: 31.9 seconds RetCode: 0 Status: OK PackageFile: webbioc_1.79.0.tar.gz PackageFileSize: 311.7 KiB