Package: webbioc Version: 1.79.0 Command: /Library/Frameworks/R.framework/Resources/bin/R CMD check --install=check:webbioc.install-out.txt --library=/Library/Frameworks/R.framework/Resources/library --no-vignettes --timings webbioc_1.79.0.tar.gz StartedAt: 2025-02-13 00:06:52 -0500 (Thu, 13 Feb 2025) EndedAt: 2025-02-13 00:08:35 -0500 (Thu, 13 Feb 2025) EllapsedTime: 102.7 seconds RetCode: 0 Status: OK CheckDir: webbioc.Rcheck Warnings: 0