Package: weitrix Version: 1.19.0 Command: /Library/Frameworks/R.framework/Resources/bin/R CMD build --keep-empty-dirs --no-resave-data weitrix StartedAt: 2025-02-12 17:55:31 -0500 (Wed, 12 Feb 2025) EndedAt: 2025-02-12 17:58:50 -0500 (Wed, 12 Feb 2025) EllapsedTime: 198.7 seconds RetCode: 0 Status: OK PackageFile: weitrix_1.19.0.tar.gz PackageFileSize: 8.973 MiB