Package: weitrix Version: 1.19.0 Command: /Library/Frameworks/R.framework/Resources/bin/R CMD check --install=check:weitrix.install-out.txt --library=/Library/Frameworks/R.framework/Resources/library --no-vignettes --timings weitrix_1.19.0.tar.gz StartedAt: 2025-02-12 22:01:44 -0500 (Wed, 12 Feb 2025) EndedAt: 2025-02-12 22:03:29 -0500 (Wed, 12 Feb 2025) EllapsedTime: 105.1 seconds RetCode: 0 Status: OK CheckDir: weitrix.Rcheck Warnings: 0