Package: weitrix Version: 1.19.0 Command: /Library/Frameworks/R.framework/Resources/bin/R CMD check --install=check:weitrix.install-out.txt --library=/Library/Frameworks/R.framework/Resources/library --no-vignettes --timings weitrix_1.19.0.tar.gz StartedAt: 2025-02-13 00:06:52 -0500 (Thu, 13 Feb 2025) EndedAt: 2025-02-13 00:11:37 -0500 (Thu, 13 Feb 2025) EllapsedTime: 284.4 seconds RetCode: 0 Status: OK CheckDir: weitrix.Rcheck Warnings: 0