Package: xcms Version: 4.5.2 Command: /Library/Frameworks/R.framework/Resources/bin/R CMD build --keep-empty-dirs --no-resave-data xcms StartedAt: 2025-02-09 17:54:56 -0500 (Sun, 09 Feb 2025) EndedAt: 2025-02-09 17:56:46 -0500 (Sun, 09 Feb 2025) EllapsedTime: 109.2 seconds RetCode: 0 Status: OK PackageFile: xcms_4.5.2.tar.gz PackageFileSize: 9.264 MiB