Package: xcms Version: 4.5.2 Command: /Library/Frameworks/R.framework/Resources/bin/R CMD INSTALL xcms StartedAt: 2025-02-09 15:18:45 -0500 (Sun, 09 Feb 2025) EndedAt: 2025-02-09 15:19:20 -0500 (Sun, 09 Feb 2025) EllapsedTime: 35.8 seconds RetCode: 0 Status: OK