Package: xcms Version: 4.5.2 Command: rm -rf xcms.buildbin-libdir && mkdir xcms.buildbin-libdir && /Users/biocbuild/BBS/utils/build-universal.sh xcms_4.5.2.tar.gz /Library/Frameworks/R.framework/Resources/bin/R xcms.buildbin-libdir StartedAt: 2025-02-10 01:22:30 -0500 (Mon, 10 Feb 2025) EndedAt: 2025-02-10 01:24:09 -0500 (Mon, 10 Feb 2025) EllapsedTime: 99.2 seconds RetCode: 0 Status: OK PackageFile: xcms_4.5.2.tgz PackageFileSize: 12.11 MiB