Package: xcms Version: 4.5.2 Command: /Library/Frameworks/R.framework/Resources/bin/R CMD build --keep-empty-dirs --no-resave-data xcms StartedAt: 2025-02-03 18:46:06 -0500 (Mon, 03 Feb 2025) EndedAt: 2025-02-03 18:50:20 -0500 (Mon, 03 Feb 2025) EllapsedTime: 253.9 seconds RetCode: 0 Status: OK PackageFile: xcms_4.5.2.tar.gz PackageFileSize: 9.233 MiB