Package: xcms Version: 4.5.2 Command: /Library/Frameworks/R.framework/Resources/bin/R CMD check --install=check:xcms.install-out.txt --library=/Library/Frameworks/R.framework/Resources/library --no-vignettes --timings xcms_4.5.2.tar.gz StartedAt: 2025-02-04 00:05:12 -0500 (Tue, 04 Feb 2025) EndedAt: 2025-02-04 00:21:48 -0500 (Tue, 04 Feb 2025) EllapsedTime: 995.5 seconds RetCode: 0 Status: OK CheckDir: xcms.Rcheck Warnings: 0