Package: xcms Version: 4.5.2 Command: /Library/Frameworks/R.framework/Resources/bin/R CMD INSTALL xcms StartedAt: 2025-02-03 15:34:51 -0500 (Mon, 03 Feb 2025) EndedAt: 2025-02-03 15:37:01 -0500 (Mon, 03 Feb 2025) EllapsedTime: 129.6 seconds RetCode: 0 Status: OK