Package: xcms Version: 4.5.2 Command: /home/biocbuild/bbs-3.21-bioc/R/bin/R CMD build --keep-empty-dirs --no-resave-data xcms StartedAt: 2025-02-09 19:46:38 -0500 (Sun, 09 Feb 2025) EndedAt: 2025-02-09 19:51:11 -0500 (Sun, 09 Feb 2025) EllapsedTime: 273.4 seconds RetCode: 0 Status: OK PackageFile: xcms_4.5.2.tar.gz PackageFileSize: 9.433 MiB