Package: xcms Version: 4.5.2 Command: /home/biocbuild/bbs-3.21-bioc/R/bin/R CMD check --install=check:xcms.install-out.txt --library=/home/biocbuild/bbs-3.21-bioc/R/site-library --timings xcms_4.5.2.tar.gz StartedAt: 2025-02-10 03:47:15 -0500 (Mon, 10 Feb 2025) EndedAt: 2025-02-10 04:11:14 -0500 (Mon, 10 Feb 2025) EllapsedTime: 1438.9 seconds RetCode: 0 Status: OK CheckDir: xcms.Rcheck Warnings: 0