Package: xcms Version: 4.5.2 Command: /home/biocbuild/bbs-3.21-bioc/R/bin/R CMD INSTALL xcms StartedAt: 2025-02-09 15:36:40 -0500 (Sun, 09 Feb 2025) EndedAt: 2025-02-09 15:38:16 -0500 (Sun, 09 Feb 2025) EllapsedTime: 95.8 seconds RetCode: 0 Status: OK