Package: xcms Version: 4.5.2 Command: rm -rf xcms.buildbin-libdir && mkdir xcms.buildbin-libdir && E:\biocbuild\bbs-3.21-bioc\R\bin\R.exe CMD INSTALL --build --library=xcms.buildbin-libdir xcms_4.5.2.tar.gz StartedAt: 2025-02-04 09:10:51 -0500 (Tue, 04 Feb 2025) EndedAt: 2025-02-04 09:13:35 -0500 (Tue, 04 Feb 2025) EllapsedTime: 163.8 seconds RetCode: 0 Status: OK PackageFile: xcms_4.5.2.zip PackageFileSize: 7.503 MiB