Package: xcms Version: 4.5.2 Command: E:\biocbuild\bbs-3.21-bioc\R\bin\R.exe CMD check --no-multiarch --install=check:xcms.install-out.txt --library=E:\biocbuild\bbs-3.21-bioc\R\library --no-vignettes --timings xcms_4.5.2.tar.gz StartedAt: 2025-02-04 07:01:15 -0500 (Tue, 04 Feb 2025) EndedAt: 2025-02-04 07:24:58 -0500 (Tue, 04 Feb 2025) EllapsedTime: 1422.5 seconds RetCode: 0 Status: WARNINGS CheckDir: xcms.Rcheck Warnings: 1