Package: xcms Version: 4.5.2 Command: E:\biocbuild\bbs-3.21-bioc\R\bin\R.exe CMD INSTALL xcms StartedAt: 2025-02-03 17:06:15 -0500 (Mon, 03 Feb 2025) EndedAt: 2025-02-03 17:10:38 -0500 (Mon, 03 Feb 2025) EllapsedTime: 263.5 seconds RetCode: 0 Status: OK