Package: xcore Version: 1.11.0 Command: /Library/Frameworks/R.framework/Resources/bin/R CMD build --keep-empty-dirs --no-resave-data xcore StartedAt: 2025-02-04 17:55:24 -0500 (Tue, 04 Feb 2025) EndedAt: 2025-02-04 17:56:01 -0500 (Tue, 04 Feb 2025) EllapsedTime: 37.4 seconds RetCode: 0 Status: OK PackageFile: xcore_1.11.0.tar.gz PackageFileSize: 2.407 MiB