Package: xcore Version: 1.11.0 Command: /Library/Frameworks/R.framework/Resources/bin/R CMD check --install=check:xcore.install-out.txt --library=/Library/Frameworks/R.framework/Resources/library --no-vignettes --timings xcore_1.11.0.tar.gz StartedAt: 2025-02-04 21:59:20 -0500 (Tue, 04 Feb 2025) EndedAt: 2025-02-04 22:02:47 -0500 (Tue, 04 Feb 2025) EllapsedTime: 207.7 seconds RetCode: 0 Status: OK CheckDir: xcore.Rcheck Warnings: 0