Package: xcore Version: 1.11.0 Command: /Library/Frameworks/R.framework/Resources/bin/R CMD INSTALL xcore StartedAt: 2025-02-04 15:20:05 -0500 (Tue, 04 Feb 2025) EndedAt: 2025-02-04 15:20:14 -0500 (Tue, 04 Feb 2025) EllapsedTime: 9.3 seconds RetCode: 0 Status: OK