Package: xcore Version: 1.11.0 Command: /home/biocbuild/R/R/bin/R CMD build --keep-empty-dirs --no-resave-data xcore StartedAt: 2025-01-28 03:12:32 -0000 (Tue, 28 Jan 2025) EndedAt: 2025-01-28 03:14:36 -0000 (Tue, 28 Jan 2025) EllapsedTime: 124.0 seconds RetCode: 0 Status: OK PackageFile: xcore_1.11.0.tar.gz PackageFileSize: 2.366 MiB