Package: xcore Version: 1.11.0 Command: /home/biocbuild/R/R/bin/R CMD check --install=check:xcore.install-out.txt --library=/home/biocbuild/R/R/site-library --no-vignettes --timings xcore_1.11.0.tar.gz StartedAt: 2025-01-27 13:57:36 -0000 (Mon, 27 Jan 2025) EndedAt: 2025-01-27 14:08:31 -0000 (Mon, 27 Jan 2025) EllapsedTime: 655.1 seconds RetCode: 0 Status: OK CheckDir: xcore.Rcheck Warnings: 0