Package: xcore Version: 1.11.0 Command: /home/biocbuild/R/R/bin/R CMD INSTALL xcore StartedAt: 2025-01-29 20:16:03 -0000 (Wed, 29 Jan 2025) EndedAt: 2025-01-29 20:16:37 -0000 (Wed, 29 Jan 2025) EllapsedTime: 33.8 seconds RetCode: 0 Status: OK