Package: xcore Version: 1.11.0 Command: rm -rf xcore.buildbin-libdir && mkdir xcore.buildbin-libdir && /Users/biocbuild/BBS/utils/build-universal.sh xcore_1.11.0.tar.gz /Library/Frameworks/R.framework/Resources/bin/R xcore.buildbin-libdir StartedAt: 2025-02-05 01:08:13 -0500 (Wed, 05 Feb 2025) EndedAt: 2025-02-05 01:08:46 -0500 (Wed, 05 Feb 2025) EllapsedTime: 32.6 seconds RetCode: 0 Status: OK PackageFile: xcore_1.11.0.tgz PackageFileSize: 1.911 MiB