Package: xcore Version: 1.11.0 Command: /Library/Frameworks/R.framework/Resources/bin/R CMD INSTALL xcore StartedAt: 2025-02-04 15:30:51 -0500 (Tue, 04 Feb 2025) EndedAt: 2025-02-04 15:31:23 -0500 (Tue, 04 Feb 2025) EllapsedTime: 32.2 seconds RetCode: 0 Status: OK