Package: xcore Version: 1.11.0 Command: /home/biocbuild/bbs-3.21-bioc/R/bin/R CMD check --install=check:xcore.install-out.txt --library=/home/biocbuild/bbs-3.21-bioc/R/site-library --timings xcore_1.11.0.tar.gz StartedAt: 2025-02-05 03:54:52 -0500 (Wed, 05 Feb 2025) EndedAt: 2025-02-05 04:03:32 -0500 (Wed, 05 Feb 2025) EllapsedTime: 519.7 seconds RetCode: 0 Status: OK CheckDir: xcore.Rcheck Warnings: 0