Package: xcore Version: 1.11.0 Command: E:\biocbuild\bbs-3.21-bioc\R\bin\R.exe CMD INSTALL xcore StartedAt: 2025-02-04 16:27:06 -0500 (Tue, 04 Feb 2025) EndedAt: 2025-02-04 16:27:48 -0500 (Tue, 04 Feb 2025) EllapsedTime: 41.5 seconds RetCode: 0 Status: OK