Package: xenLite Version: 1.1.0 Maintainer: Vincent Carey MaintainerEmail: stvjc at channing.harvard.edu git_url: https://git.bioconductor.org/packages/xenLite git_branch: devel git_last_commit: 921c057 git_last_commit_date: 2024-10-29 11:33:39 -0500 (Tue, 29 Oct 2024)