Package: xenLite Version: 1.1.0 Command: rm -rf xenLite.buildbin-libdir && mkdir xenLite.buildbin-libdir && /Users/biocbuild/BBS/utils/build-universal.sh xenLite_1.1.0.tar.gz /Library/Frameworks/R.framework/Resources/bin/R xenLite.buildbin-libdir StartedAt: 2025-02-10 01:22:33 -0500 (Mon, 10 Feb 2025) EndedAt: 2025-02-10 01:23:19 -0500 (Mon, 10 Feb 2025) EllapsedTime: 46.8 seconds RetCode: 0 Status: OK PackageFile: xenLite_1.1.0.tgz PackageFileSize: 3.021 MiB