Package: xenLite Version: 1.1.0 Command: chmod a+r xenLite -R && E:\biocbuild\bbs-3.21-bioc\R\bin\R.exe CMD build --keep-empty-dirs --no-resave-data xenLite StartedAt: 2025-02-09 22:19:54 -0500 (Sun, 09 Feb 2025) EndedAt: 2025-02-09 22:21:25 -0500 (Sun, 09 Feb 2025) EllapsedTime: 90.5 seconds RetCode: 0 Status: OK PackageFile: xenLite_1.1.0.tar.gz PackageFileSize: 2.636 MiB