Package: xenLite Version: 1.1.0 Command: E:\biocbuild\bbs-3.21-bioc\R\bin\R.exe CMD check --no-multiarch --install=check:xenLite.install-out.txt --library=E:\biocbuild\bbs-3.21-bioc\R\library --no-vignettes --timings xenLite_1.1.0.tar.gz StartedAt: 2025-02-10 06:36:39 -0500 (Mon, 10 Feb 2025) EndedAt: 2025-02-10 06:41:53 -0500 (Mon, 10 Feb 2025) EllapsedTime: 313.7 seconds RetCode: 0 Status: OK CheckDir: xenLite.Rcheck Warnings: 0