Package: xenLite Version: 1.1.0 Command: E:\biocbuild\bbs-3.21-bioc\R\bin\R.exe CMD INSTALL xenLite StartedAt: 2025-02-09 16:32:10 -0500 (Sun, 09 Feb 2025) EndedAt: 2025-02-09 16:33:00 -0500 (Sun, 09 Feb 2025) EllapsedTime: 50.1 seconds RetCode: 0 Status: OK