Package: xmapbridge Version: 1.65.0 Command: /Library/Frameworks/R.framework/Resources/bin/R CMD check --install=check:xmapbridge.install-out.txt --library=/Library/Frameworks/R.framework/Resources/library --no-vignettes --timings xmapbridge_1.65.0.tar.gz StartedAt: 2025-02-09 21:58:34 -0500 (Sun, 09 Feb 2025) EndedAt: 2025-02-09 21:58:49 -0500 (Sun, 09 Feb 2025) EllapsedTime: 14.2 seconds RetCode: 0 Status: OK CheckDir: xmapbridge.Rcheck Warnings: 0