Package: xmapbridge Version: 1.65.0 Command: /home/biocbuild/R/R/bin/R CMD INSTALL xmapbridge StartedAt: 2025-01-29 19:32:39 -0000 (Wed, 29 Jan 2025) EndedAt: 2025-01-29 19:32:53 -0000 (Wed, 29 Jan 2025) EllapsedTime: 14.4 seconds RetCode: 0 Status: OK