Package: xmapbridge Version: 1.65.0 Command: rm -rf xmapbridge.buildbin-libdir && mkdir xmapbridge.buildbin-libdir && /Users/biocbuild/BBS/utils/build-universal.sh xmapbridge_1.65.0.tar.gz /Library/Frameworks/R.framework/Resources/bin/R xmapbridge.buildbin-libdir StartedAt: 2025-02-13 01:04:45 -0500 (Thu, 13 Feb 2025) EndedAt: 2025-02-13 01:04:51 -0500 (Thu, 13 Feb 2025) EllapsedTime: 5.8 seconds RetCode: 0 Status: OK PackageFile: xmapbridge_1.65.0.tgz PackageFileSize: 1.762 MiB